BEGIN:VCALENDAR
PRODID:-//Ben Fortuna//iCal4j 1.0//EN
VERSION:2.0
CALSCALE:GREGORIAN
BEGIN:VTIMEZONE
TZID:Europe/Berlin
LAST-MODIFIED:20201010T011803Z
TZURL:http://tzurl.org/zoneinfo/Europe/Berlin
X-LIC-LOCATION:Europe/Berlin
X-PROLEPTIC-TZNAME:LMT
BEGIN:STANDARD
TZNAME:CET
TZOFFSETFROM:+005328
TZOFFSETTO:+0100
DTSTART:18930401T000000
END:STANDARD
BEGIN:DAYLIGHT
TZNAME:CEST
TZOFFSETFROM:+0100
TZOFFSETTO:+0200
DTSTART:19160430T230000
RDATE:19400401T020000
RDATE:19430329T020000
RDATE:19460414T020000
RDATE:19470406T030000
RDATE:19480418T020000
RDATE:19490410T020000
RDATE:19800406T020000
END:DAYLIGHT
BEGIN:STANDARD
TZNAME:CET
TZOFFSETFROM:+0200
TZOFFSETTO:+0100
DTSTART:19161001T010000
RDATE:19421102T030000
RDATE:19431004T030000
RDATE:19441002T030000
RDATE:19451118T030000
RDATE:19461007T030000
END:STANDARD
BEGIN:DAYLIGHT
TZNAME:CEST
TZOFFSETFROM:+0100
TZOFFSETTO:+0200
DTSTART:19170416T020000
RRULE:FREQ=YEARLY;UNTIL=19180415T010000Z;BYMONTH=4;BYDAY=3MO
END:DAYLIGHT
BEGIN:STANDARD
TZNAME:CET
TZOFFSETFROM:+0200
TZOFFSETTO:+0100
DTSTART:19170917T030000
RRULE:FREQ=YEARLY;UNTIL=19180916T010000Z;BYMONTH=9;BYDAY=3MO
END:STANDARD
BEGIN:DAYLIGHT
TZNAME:CEST
TZOFFSETFROM:+0100
TZOFFSETTO:+0200
DTSTART:19440403T020000
RRULE:FREQ=YEARLY;UNTIL=19450402T010000Z;BYMONTH=4;BYDAY=1MO
END:DAYLIGHT
BEGIN:DAYLIGHT
TZNAME:CEMT
TZOFFSETFROM:+0200
TZOFFSETTO:+0300
DTSTART:19450524T020000
RDATE:19470511T030000
END:DAYLIGHT
BEGIN:DAYLIGHT
TZNAME:CEST
TZOFFSETFROM:+0300
TZOFFSETTO:+0200
DTSTART:19450924T030000
RDATE:19470629T030000
END:DAYLIGHT
BEGIN:STANDARD
TZNAME:CET
TZOFFSETFROM:+0100
TZOFFSETTO:+0100
DTSTART:19460101T000000
RDATE:19800101T000000
END:STANDARD
BEGIN:STANDARD
TZNAME:CET
TZOFFSETFROM:+0200
TZOFFSETTO:+0100
DTSTART:19471005T030000
RRULE:FREQ=YEARLY;UNTIL=19491002T010000Z;BYMONTH=10;BYDAY=1SU
END:STANDARD
BEGIN:STANDARD
TZNAME:CET
TZOFFSETFROM:+0200
TZOFFSETTO:+0100
DTSTART:19800928T030000
RRULE:FREQ=YEARLY;UNTIL=19950924T010000Z;BYMONTH=9;BYDAY=-1SU
END:STANDARD
BEGIN:DAYLIGHT
TZNAME:CEST
TZOFFSETFROM:+0100
TZOFFSETTO:+0200
DTSTART:19810329T020000
RRULE:FREQ=YEARLY;BYMONTH=3;BYDAY=-1SU
END:DAYLIGHT
BEGIN:STANDARD
TZNAME:CET
TZOFFSETFROM:+0200
TZOFFSETTO:+0100
DTSTART:19961027T030000
RRULE:FREQ=YEARLY;BYMONTH=10;BYDAY=-1SU
END:STANDARD
END:VTIMEZONE
BEGIN:VEVENT
DTSTAMP:20260423T163858Z
DTSTART;TZID=Europe/Berlin:20251019T153000
DTEND;TZID=Europe/Berlin:20251019T173000
SUMMARY:Lesung
CREATED:20250924T084736Z
LAST-MODIFIED:20250924T085506Z
DESCRIPTION:Anja Marschall liest aus ihrem Roman \"Hotel Vier Jahreszeite
 n\"\n\nDer schicksalhafte Aufstieg einer einfachen Wäscherin im mondänen
  Hamburger Hotel Vier Jahreszeiten\n\nHamburg\, 1914: Luise wächst im Ar
 menviertel der Stadt auf. Als sie die Chance erhält\, im vornehmen Hotel
  Vier Jahreszeiten zu arbeiten\, scheint ihr Traum auf ein besseres Lebe
 n in Erfüllung zu gehen. Doch der Alltag im Waschkeller des Hotels ist h
 art und Luise muss sich gegen viele Widrigkeiten behaupten. Zum Glück is
 t Page Hans an ihrer Seite. Dank ihm entdeckt sie die Wahrheit über ihre
  Herkunft\, während draußen der Krieg tobt. Das Hotel wird zu ihrer Fami
 lie\, die sie nie hatte. Und sie ist bereit\, diese mit ihrem Leben zu v
 erteidigen.\nDer Auftakt zur hinreißenden Dilogie über das legendäre Gra
 ndhotel an der Alster.\n\nAnmeldungen in der Stadtbücherei:  telefonisch
  unter 02632/922344 /  per E-Mail unter stadtbuecherei@andernach.de
LOCATION:Stadtbücherei Andernach
X-LOCATION-NAME:Stadtbücherei Andernach
X-STREET-ADDRESS:Hochstr. 52-54
X-POSTAL-CODE:56626
X-LOCALITY:Andernach
URL:https://www.andernach-kultur.de/Kultur/aktuelle-meldungen-stadtbueche
 rei/2025-hotel-vier-jahreszeiten/
X-IONAS-CATEGORY:Lesung
CATEGORIES:Lesung,Lesung,Frauen,Historischer Roman,Stadtbücherei Andernac
 h
UID:ea960a29-86f9-41b2-bceb-55b8453c0963
END:VEVENT
END:VCALENDAR
